BEGIN:VCALENDAR
VERSION:2.0
PRODID:-//High Littleton Scout Hall - ECPv6.15.20//NONSGML v1.0//EN
CALSCALE:GREGORIAN
METHOD:PUBLISH
X-ORIGINAL-URL:https://highlittletonscouthall.org.uk
X-WR-CALDESC:Events for High Littleton Scout Hall
REFRESH-INTERVAL;VALUE=DURATION:PT1H
X-Robots-Tag:noindex
X-PUBLISHED-TTL:PT1H
BEGIN:VTIMEZONE
TZID:Europe/London
BEGIN:DAYLIGHT
TZOFFSETFROM:+0000
TZOFFSETTO:+0100
TZNAME:BST
DTSTART:20220327T010000
END:DAYLIGHT
BEGIN:STANDARD
TZOFFSETFROM:+0100
TZOFFSETTO:+0000
TZNAME:GMT
DTSTART:20221030T010000
END:STANDARD
BEGIN:DAYLIGHT
TZOFFSETFROM:+0000
TZOFFSETTO:+0100
TZNAME:BST
DTSTART:20230326T010000
END:DAYLIGHT
BEGIN:STANDARD
TZOFFSETFROM:+0100
TZOFFSETTO:+0000
TZNAME:GMT
DTSTART:20231029T010000
END:STANDARD
BEGIN:DAYLIGHT
TZOFFSETFROM:+0000
TZOFFSETTO:+0100
TZNAME:BST
DTSTART:20240331T010000
END:DAYLIGHT
BEGIN:STANDARD
TZOFFSETFROM:+0100
TZOFFSETTO:+0000
TZNAME:GMT
DTSTART:20241027T010000
END:STANDARD
END:VTIMEZONE
BEGIN:VEVENT
DTSTART;TZID=Europe/London:20230624T190000
DTEND;TZID=Europe/London:20230624T190000
DTSTAMP:20260425T020202
CREATED:20230508T124646Z
LAST-MODIFIED:20230614T103103Z
UID:121-1687633200-1687633200@highlittletonscouthall.org.uk
SUMMARY:Phantom of the Open
DESCRIPTION:Summary: Maurice Flitcroft\, a dreamer and unrelenting optimist\, manages to gain entry to the 1976 British Open Golf Championship qualification round despite being a complete novice. \n\n\n\nStarring: Mark Rylance\, Sally Hawkins \n\n\n\n(2021 / 106 mins)
URL:https://highlittletonscouthall.org.uk/event/phantom-of-the-open/
LOCATION:High Littleton Scout Hall\, Scout Hall\, High St.\, High Littleton\, Bristol\, Somerset\, BS39 6JD\, United Kingdom
CATEGORIES:Film Night
ATTACH;FMTTYPE=image/jpeg:https://highlittletonscouthall.org.uk/wp-content/uploads/2023/05/MV5BNWYxMjVjM2ItNjU1NS00ZDI2LWJmODEtNDI2NWUzMjdjMjU1XkEyXkFqcGdeQXVyNjYxNjc0OTc@._V1_.jpg
END:VEVENT
END:VCALENDAR