BEGIN:VCALENDAR
VERSION:2.0
PRODID:-//High Littleton Scout Hall - ECPv6.15.20//NONSGML v1.0//EN
CALSCALE:GREGORIAN
METHOD:PUBLISH
X-ORIGINAL-URL:https://highlittletonscouthall.org.uk
X-WR-CALDESC:Events for High Littleton Scout Hall
REFRESH-INTERVAL;VALUE=DURATION:PT1H
X-Robots-Tag:noindex
X-PUBLISHED-TTL:PT1H
BEGIN:VTIMEZONE
TZID:Europe/London
BEGIN:DAYLIGHT
TZOFFSETFROM:+0000
TZOFFSETTO:+0100
TZNAME:BST
DTSTART:20250330T010000
END:DAYLIGHT
BEGIN:STANDARD
TZOFFSETFROM:+0100
TZOFFSETTO:+0000
TZNAME:GMT
DTSTART:20251026T010000
END:STANDARD
BEGIN:DAYLIGHT
TZOFFSETFROM:+0000
TZOFFSETTO:+0100
TZNAME:BST
DTSTART:20260329T010000
END:DAYLIGHT
BEGIN:STANDARD
TZOFFSETFROM:+0100
TZOFFSETTO:+0000
TZNAME:GMT
DTSTART:20261025T010000
END:STANDARD
BEGIN:DAYLIGHT
TZOFFSETFROM:+0000
TZOFFSETTO:+0100
TZNAME:BST
DTSTART:20270328T010000
END:DAYLIGHT
BEGIN:STANDARD
TZOFFSETFROM:+0100
TZOFFSETTO:+0000
TZNAME:GMT
DTSTART:20271031T010000
END:STANDARD
END:VTIMEZONE
BEGIN:VEVENT
DTSTART;TZID=Europe/London:20260123T190000
DTEND;TZID=Europe/London:20260123T220000
DTSTAMP:20260423T023330
CREATED:20251211T190713Z
LAST-MODIFIED:20251211T195337Z
UID:490-1769194800-1769205600@highlittletonscouthall.org.uk
SUMMARY:Conclave
DESCRIPTION:Summary: When Cardinal Lawrence is tasked with leading the selection of a new Pope\, he finds himself in a web of conspiracy and intrigue that could shake the very foundations of the Catholic Church. \n\n\n\nStarring: Ralph Fiennes\, Stanley Tucci\, John Lithgow \n\n\n\n(2024\, 120mins)
URL:https://highlittletonscouthall.org.uk/event/conclave/
LOCATION:High Littleton Scout Hall\, Scout Hall\, High St.\, High Littleton\, Bristol\, Somerset\, BS39 6JD\, United Kingdom
CATEGORIES:Film Night
ATTACH;FMTTYPE=image/jpeg:https://highlittletonscouthall.org.uk/wp-content/uploads/2025/12/Conclave-scaled.jpg
END:VEVENT
END:VCALENDAR