BEGIN:VCALENDAR
VERSION:2.0
PRODID:-//High Littleton Scout Hall - ECPv6.15.20//NONSGML v1.0//EN
CALSCALE:GREGORIAN
METHOD:PUBLISH
X-ORIGINAL-URL:https://highlittletonscouthall.org.uk
X-WR-CALDESC:Events for High Littleton Scout Hall
REFRESH-INTERVAL;VALUE=DURATION:PT1H
X-Robots-Tag:noindex
X-PUBLISHED-TTL:PT1H
BEGIN:VTIMEZONE
TZID:Europe/London
BEGIN:DAYLIGHT
TZOFFSETFROM:+0000
TZOFFSETTO:+0100
TZNAME:BST
DTSTART:20240331T010000
END:DAYLIGHT
BEGIN:STANDARD
TZOFFSETFROM:+0100
TZOFFSETTO:+0000
TZNAME:GMT
DTSTART:20241027T010000
END:STANDARD
BEGIN:DAYLIGHT
TZOFFSETFROM:+0000
TZOFFSETTO:+0100
TZNAME:BST
DTSTART:20250330T010000
END:DAYLIGHT
BEGIN:STANDARD
TZOFFSETFROM:+0100
TZOFFSETTO:+0000
TZNAME:GMT
DTSTART:20251026T010000
END:STANDARD
BEGIN:DAYLIGHT
TZOFFSETFROM:+0000
TZOFFSETTO:+0100
TZNAME:BST
DTSTART:20260329T010000
END:DAYLIGHT
BEGIN:STANDARD
TZOFFSETFROM:+0100
TZOFFSETTO:+0000
TZNAME:GMT
DTSTART:20261025T010000
END:STANDARD
END:VTIMEZONE
BEGIN:VEVENT
DTSTART;TZID=Europe/London:20250125T190000
DTEND;TZID=Europe/London:20250125T220000
DTSTAMP:20260423T234411
CREATED:20250121T112817Z
LAST-MODIFIED:20250121T121204Z
UID:259-1737831600-1737842400@highlittletonscouthall.org.uk
SUMMARY:Wilding
DESCRIPTION:Summary: Wilding tells the story of a young couple that bets on nature for the future of their failing\, four-hundred-year-old estate. The young couple battles entrenched tradition\, and dares to place the fate of their farm in the hands of nature. Ripping down the fences\, they set the land back to the wild and entrust its recovery to a motley mix of animals both tame and wild. It is the beginning of a grand experiment that will become one of the most significant rewilding experiments in Europe. \n\n\n\nStarring: Matthew Collyer\, Rhiannon Neads\, Isabella Tree\, Jon Wennington \n\n\n\n(2023 / 1hr 15 mins)
URL:https://highlittletonscouthall.org.uk/event/259/
LOCATION:High Littleton Scout Hall\, Scout Hall\, High St.\, High Littleton\, Bristol\, Somerset\, BS39 6JD\, United Kingdom
CATEGORIES:Film Night
ATTACH;FMTTYPE=image/jpeg:https://highlittletonscouthall.org.uk/wp-content/uploads/2025/01/wildingfilm.jpeg
END:VEVENT
END:VCALENDAR